BEGIN:VCALENDAR
VERSION:2.0
PRODID:-//Stadtgeschichte München//DE
CALSCALE:GREGORIAN
BEGIN:VEVENT
UID:24197@stadtgeschichte-muenchen.de
SUMMARY:Ein verborgener Ort
DESCRIPTION:&lt;p&gt;Im späten 19. Jahrhundert erlangte das ehemalige Jagdschloss Fürstenried traurige Berühmtheit, weil hier Bayerns kranker König Otto verwahrt wurde. Im Gegensatz zum Interieur des heute als Exerzitienhaus genutzten Schlosses, zeigt sich der Park in alter Form. Seltene alte Bäume wechseln mit Blumenrabatten, Rosenbeeten und eisernen Laubengängen. Unsere Erkundung befasst sich auch mit dem ehemaligen Gutsbetrieb, der exklusives Obst und Gemüse für die Hofküche lieferte und der ursprünglichen barocken Nutzung von Schloss und Garten.&lt;/p&gt; &lt;p&gt;&amp;nbsp;&lt;/p&gt; 
DTSTART:20240613T160000
DTEND:20240613T173000
LOCATION:Schloß Fürstenried, Eingang seitliches Tor, Forst-Kasten-Allee 103
ORGANIZER:Münchner Bildungswerk e.V.
END:VEVENT
END:VCALENDAR