BEGIN:VCALENDAR
VERSION:2.0
PRODID:-//Stadtgeschichte München//DE
CALSCALE:GREGORIAN
BEGIN:VEVENT
UID:24198@stadtgeschichte-muenchen.de
SUMMARY:Sendling entdecken
DESCRIPTION:&lt;p&gt;Wir beginnen an der alten Sendlinger Kirche, neben der 1705 die berühmt-berüchtigte Mordweihnacht stattfand. Am Stemmerhof, dem ehemaligen Schmiedwirt und dem Maibaum lässt sich die ursprünglich bäuerliche Struktur ablesen. Über Neu-St. Margaret, die Jugendstilhäuser am Harras und den Schuttberg mit spektakulärer Aussicht erreichen wir den alten jüdischen Friedhof. Ein Besuch in Sendling – einst gerühmt für seine gesunde Luft – ist nach wie vor lohnenswert!&lt;/p&gt; 
DTSTART:20240706T150000
DTEND:20240706T171500
LOCATION:Alte Sendlinger Kirche Plinganserstraße 1
ORGANIZER:Münchner Bildungswerk e.V.
END:VEVENT
END:VCALENDAR