BEGIN:VCALENDAR
VERSION:2.0
PRODID:-//Stadtgeschichte München//DE
CALSCALE:GREGORIAN
BEGIN:VEVENT
UID:24202@stadtgeschichte-muenchen.de
SUMMARY:Handel im Wandel: Münchner Hoflieferanten, Salz und Marktgeschehen
DESCRIPTION:&lt;p&gt;Salzhandel, Märkte, Sitz der königlich-bayerischen Hoflieferanten – das sind die Schwerpunkte der spannenden Münchner Wirtschaftsgeschichte, die zu verschiedenen Schauplätzen in der Altstadt führt.&lt;/p&gt; 
DTSTART:20241030T140000
DTEND:20241030T153000
LOCATION:Fischbrunnen Marienplatz
ORGANIZER:Münchner Bildungswerk e.V.
END:VEVENT
END:VCALENDAR