BEGIN:VCALENDAR
VERSION:2.0
PRODID:-//Stadtgeschichte München//DE
CALSCALE:GREGORIAN
BEGIN:VEVENT
UID:24203@stadtgeschichte-muenchen.de
SUMMARY:Am 20. März ist Weltglückstag
DESCRIPTION:&lt;p&gt;Alle wünschen es sich – doch wer hat es wirklich, das Glück? Wir machen uns auf die Suche nach dem Glück und werden ihm in der Altstadt vielfältig begegnen. Lassen Sie sich von den unterschiedlichen Facetten des Glücks überraschen! Vielleicht ist auch ein kleines Glück für Sie dabei?&lt;/p&gt; 
DTSTART:20240320T140000
DTEND:20240320T153000
LOCATION:Feldherrnhalle, Odeonsplatz Residenzstr. 1
ORGANIZER:Münchner Bildungswerk e.V.
END:VEVENT
END:VCALENDAR