BEGIN:VCALENDAR
VERSION:2.0
PRODID:-//Stadtgeschichte München//DE
CALSCALE:GREGORIAN
BEGIN:VEVENT
UID:24211@stadtgeschichte-muenchen.de
SUMMARY:Entlang der Römer- und Salzstraße
DESCRIPTION:&lt;p&gt;Schon die Kelten siedelten am Rand des Erdinger Mooses. Um Johanneskirchen entdeckte man keltische Relikte und bajuwarische Siedlungen wurden hier gefunden. Hier verlief die Römerstraße nach Augsburg und römische Gutshöfe standen südlich der Straße. Auf dieser Trasse führte auch die mittelalterliche Salzstraße entlang und überquerte bei Oberföhring die Isar. In Föhring unterhielt der Fürstbischof von Freising Brücke, Markt, Münze bis der Salzhandel 1158 isaraufwärts nach München verlegt wurde. Gibt es noch Spuren von der mindestens 500 Jahre bestehenden antiken und mittelalterlichen Isarquerung?&lt;/p&gt; 
DTSTART:20240704T140000
DTEND:20240704T160000
LOCATION:Huuezziplatz
ORGANIZER:MVHS
END:VEVENT
END:VCALENDAR