BEGIN:VCALENDAR
VERSION:2.0
PRODID:-//Stadtgeschichte München//DE
CALSCALE:GREGORIAN
BEGIN:VEVENT
UID:24239@stadtgeschichte-muenchen.de
SUMMARY:Lokal-Runde: Spaziergang von Trudering zur Messestadt Riem
DESCRIPTION:&lt;p&gt;In der Führungsreihe Lokal-Runde begeben Sie sich auf eine Stadtteilerkundung mit Menschen, die im Stadtviertel Verantwortung tragen (z.B. in der Politik, in Vereinen und Institutionen, in Unternehmen und Kirche), die Kultur gestalten, sozial engagiert sind oder einfach wichtig für das Stadtquartier sind. Sie zeigen Ihnen Ecken, die ihnen persönlich wichtig, für das Viertel charakteristisch oder für seine Geschichte und Zukunft bedeutsam sind. Los gehts in Trudering. Endstation ist der Willy-Brandt-Platz, U-Bahnhof Messestadt West.&lt;/p&gt; &lt;p&gt;Eine weitere Lokalrunde findet in Berg am Laim mit Herrn Friedrich statt (Kursnr. S123702)&lt;/p&gt; &lt;p&gt;&amp;nbsp;&lt;/p&gt; &lt;ul&gt; &lt;/ul&gt; 
DTSTART:20240624T180000
DTEND:20240624T193000
LOCATION:Busbahnhof Trudering, am Aufzug
ORGANIZER:MVHS
END:VEVENT
END:VCALENDAR