BEGIN:VCALENDAR
VERSION:2.0
PRODID:-//Stadtgeschichte München//DE
CALSCALE:GREGORIAN
BEGIN:VEVENT
UID:24242@stadtgeschichte-muenchen.de
SUMMARY:Die moderne Braustätte des Staatlichen Hofbräuhauses in München-Riem
DESCRIPTION:&lt;p&gt;Mit der Gründung des Hofbräuhauses (1589) wollte Herzog Wilhelm V. seinen Hofstaat zufriedenstellen, dabei aber Kosten und Vergnügen in Einklang bringen. Bis 1607 war das Hofbräuhaus im Alten Hof, seither steht es am Platzl. Die Brauerei wurde 1897 nach Haidhausen (Hofbräukeller) verlagert, 1988 wurde die Braustätte in Riem eröffnet. Lernen Sie die Stationen des Brauprozesses kennen: von den Rohstoffen über den Brauvorgang im Sudhaus, den Gärkeller bis zu Lagerung und Abfüllung. Verkosten Sie frisch gezwickeltes Bier und eine zünftige bayerische Brotzeit.&lt;/p&gt; 
DTSTART:20240515T100000
DTEND:20240515T123000
LOCATION: Staatliches Hofbräuhaus, Pforte Hofbräuallee 1
ORGANIZER:MVHS
END:VEVENT
END:VCALENDAR