BEGIN:VCALENDAR
VERSION:2.0
PRODID:-//Stadtgeschichte München//DE
CALSCALE:GREGORIAN
BEGIN:VEVENT
UID:24263@stadtgeschichte-muenchen.de
SUMMARY:Blütenzauber im Westpark
DESCRIPTION:&lt;p&gt;Der zweitgrößte Münchner Park bietet viel Platz für Mensch und Natur. Entstanden ist er anlässlich der internationalen Gartenschau 1983 und auch heute noch präsentieren sich die unterschiedlichen Beetbereiche harmonisch angelegt in farbenfroher Blütenpracht. Sacht wiegende Gräser, verschwenderische Blütenfülle, schattenspendende Büsche - entdecken Sie die Stauden- und Schmuckbeete des spätsommerlichen Parks unter sachkundiger Führung von Gartenpflegerin Tanja Sixt.&lt;/p&gt; &lt;p&gt;&amp;nbsp;&lt;/p&gt; &lt;p&gt;&amp;nbsp;&lt;/p&gt; &lt;ul&gt; &lt;/ul&gt; 
DTSTART:20240831T100000
DTEND:20240831T113000
LOCATION:Westpark (Haltestelle Bus 134), Aufgang Baumgartnerstr.
ORGANIZER:MVHS
END:VEVENT
END:VCALENDAR