BEGIN:VCALENDAR
VERSION:2.0
PRODID:-//Stadtgeschichte München//DE
CALSCALE:GREGORIAN
BEGIN:VEVENT
UID:24266@stadtgeschichte-muenchen.de
SUMMARY:High-Tech in historischem Gebäude
DESCRIPTION:&lt;p&gt;Seit 1923 drehen sich die Turbinen im Isarwerk 2 und erzeugen aus dem Wasser des Isarkanals umweltfreundlichen Strom für städtische Haushalte. Die SWM entschlossen sich im Rahmen der &quot;Ausbauoffensive Erneuerbare Energien&quot; zu einer grundlegenden Modernisierung des historischen Wasserkraftwerks: Vier moderne Kaplan-Turbinen mit einer Gesamtleistung von 2500 Kilowatt erzeugen jetzt Strom für 6000 Münchner Haushalte. Eine Referentin führt Sie im Auftrag der Stadtwerke München durch das historische Gebäude und erläutert die Stromerzeugung durch Wasserkraft.&lt;/p&gt; 
DTSTART:20240620T143000
DTEND:20240620T160000
LOCATION: Laufwasserkraftwerk Isarwerk 2 (großes Stahltor im Bereich des Unterwassers) Isarauen 4
ORGANIZER:MVHS
END:VEVENT
END:VCALENDAR