BEGIN:VCALENDAR
VERSION:2.0
PRODID:-//Stadtgeschichte München//DE
CALSCALE:GREGORIAN
BEGIN:VEVENT
UID:24290@stadtgeschichte-muenchen.de
SUMMARY:Historischer Spaziergang ums Aubinger Heizwerk
DESCRIPTION:&lt;p&gt;Im Aubinger Osten soll ein neuer Kulturtempel in den Mauern des seit vielen Jahren stillgelegten und als monumentale Industrieruine bekannt gewordenen Aubinger Heizwerks entstehen. Das Gebäude selbst sowie seine nähere Umgebung haben eine Geschichte, deren Bogen sich über viele Jahrhunderte spannt: angefangen vom direkt angrenzenden frühchristlichen Reihengräberfeld über die Entstehung der nahe gelegenen Bahnbauten in der NS-Zeit bis hin zu einem verschwundenen See. Es gibt viel Unbekanntes zu entdecken auf diesem Rundgang!&lt;/p&gt; 
DTSTART:20240419T160000
DTEND:20240419T180000
LOCATION:Bergsonstraße/Ecke Rupert-Bodner-Straße
ORGANIZER:MVHS
END:VEVENT
END:VCALENDAR