BEGIN:VCALENDAR
VERSION:2.0
PRODID:-//Stadtgeschichte München//DE
CALSCALE:GREGORIAN
BEGIN:VEVENT
UID:24293@stadtgeschichte-muenchen.de
SUMMARY:Ein Bauernhof in der Stadt - die Kinder- und Jugendfarm Neuaubing
DESCRIPTION:&lt;p&gt;Seit 33 Jahren ist das Gelände der Kinder- und Jugendfarm in Neuaubing offener Treff, Spielplatz und Erlebnispark für die kleinen und großen Kinder im Münchner Westen. Hier können alle Interessierten Kinder und Jugendlichen von 6 bis 17 Jahren vorbeikommen, bei der Tierpflege helfen oder bei Projekten und Führungen mitmachen. In Begleitung eine*r Mitarbeiter*in erkunden Sie das Gelände, lernen das Konzept der Einrichtung kennen und begegnen den tierischen und menschlichen Bewohner*innen und Akteur*innen der Kinder- und Jugendfarm.&lt;/p&gt; 
DTSTART:20240607T103000
DTEND:20240607T113000
LOCATION:Kinder- und Jugendfarm Neuaubing Wiesentfelser Str. 59
ORGANIZER:MVHS
END:VEVENT
END:VCALENDAR