BEGIN:VCALENDAR
VERSION:2.0
PRODID:-//Stadtgeschichte München//DE
CALSCALE:GREGORIAN
BEGIN:VEVENT
UID:24300@stadtgeschichte-muenchen.de
SUMMARY:SEN: Die Polizeiinspektion Neuhausen zu Besuch im Neuhauser Trafo
DESCRIPTION:&lt;p&gt;Senior*innen sind häufig Opfer von Trickbetrügern. In unserem Vortrag werden die Tricks aus den Themenbereichen wie Trickdiebstahl, Call-Center-Betrugsmaschen, falsche Polizeibeamte, Gefahren im Internet erklärt und geeignete Gegenmaßnahmen benannt. Desweiteren erhalten Sie einen Einblick in die Themengebiete &quot;Zivilcourage und Selbstsicherheit&quot;.&lt;/p&gt; &lt;ul&gt; &lt;/ul&gt; 
DTSTART:20240415T150000
DTEND:20240415T170000
LOCATION:Volkshochschule Nymphenburger Str. 171b
ORGANIZER:MVHS
END:VEVENT
END:VCALENDAR