BEGIN:VCALENDAR
VERSION:2.0
PRODID:-//Stadtgeschichte München//DE
CALSCALE:GREGORIAN
BEGIN:VEVENT
UID:2431@stadtgeschichte-muenchen.de
SUMMARY:König Ludwig I. von Bayern - Monarch und Mäzen
DESCRIPTION:Als &amp;raquo;einen K&amp;ouml;nig, wie Europa ihn im 19. Jahrhundert nur einmal sah&amp;laquo;, w&amp;uuml;rdigte Golo Mann Ludwig I. von Bayern (1786-1868), den F&amp;ouml;rderer der K&amp;uuml;nste und der Wissenschaften, den Auftraggeber ber&amp;uuml;hmter Architekten. Unter seiner &amp;Auml;gide entwickelte sich das b&amp;auml;uerliche M&amp;uuml;nchen zu einer aufstrebenden Stadt. Weniger gl&amp;uuml;cklich war seine politische und private Hand: Die Ausbreitung der revolution&amp;auml;ren Bewegung im Vorm&amp;auml;rz beantwortete er mit zunehmend reaktion&amp;auml;ren Tendenzen. Dies und sein Verhalten in der Aff&amp;auml;re mit der T&amp;auml;nzerin Lola Montez erzwang schlie&amp;szlig;lich seine Abdankung.
DTSTART:20120322T193000
DTEND:20120322T210000
LOCATION:Volkshochschule Giesing Â· Severinstr. 6
ORGANIZER:MVHS München Mitte   
END:VEVENT
END:VCALENDAR