BEGIN:VCALENDAR
VERSION:2.0
PRODID:-//Stadtgeschichte München//DE
CALSCALE:GREGORIAN
BEGIN:VEVENT
UID:24314@stadtgeschichte-muenchen.de
SUMMARY:Kunst im Pasinger Zentrum - Rundgang
DESCRIPTION:&lt;p&gt;Bei unserem Rundgang lernen Sie einige der Kunstwerke kennen, die in den letzten hundert Jahren im Stadtbezirk entstanden sind. &quot;Porta&quot;, &quot;Brezenbub&quot;, &quot;Fregio&quot;, &quot;Tannhoferbin&quot;, &quot;Randbreite&quot;, &quot;Gebeugter leerer Stuhl!&quot;, um nur einige zu nennen. Wenn Sie wissen wollen, wo sich diese Kunstwerke in Pasing befinden und wer sie geschaffen hat, sind Sie bei diesem Kunst-Rundgang richtig. Wir gehen auch zum Gefallenendenkmal, zum Hochzeitsbrunnen und zum Fischerbub, alles Werke des Pasinger Künstlers Hans Osel.&lt;/p&gt; 
DTSTART:20240507T170000
DTEND:20240507T190000
LOCATION:Innenhof Bäckerstr. 14
ORGANIZER:MVHS
END:VEVENT
END:VCALENDAR