BEGIN:VCALENDAR
VERSION:2.0
PRODID:-//Stadtgeschichte München//DE
CALSCALE:GREGORIAN
BEGIN:VEVENT
UID:24322@stadtgeschichte-muenchen.de
SUMMARY:Buchvorstellung im Bellvue di Monaco
DESCRIPTION:&lt;p&gt;Welche Folgen hat die (Um-)Deutung des Holocaust in aktuellen politischen Debatten und für die Zukunft der Erinnerungskultur? Wie wird und wurde an ihn erinnert, wie sollte es getan werden? Wie definiert man Antisemitismus und welche Schwierigkeiten gibt es in dessen Prävention?&amp;nbsp;&lt;/p&gt; &lt;p&gt;&amp;nbsp;&lt;/p&gt; &lt;p&gt;Am 7. März um 19 Uhr&amp;nbsp;stellt Herausgeber&amp;nbsp;Jakob Hoffman&amp;nbsp;den Sammelband&amp;nbsp;Erinnern als höchste Form des Vergessens? (Um-)Deutungen des Holocaust und der „Historikerstreit 2.0“&amp;nbsp;vor und führt in die aktuelle Debatte ein. Zu antisemitismuskritischer Bildungsarbeit wird&amp;nbsp;Elke Rajal&amp;nbsp;ihren Beitrag „Holocaust Education und antisemitismuskritische Bildungsarbeit im Lichte der Kritischen Theorie“ referieren. Im Anschluss ist Raum für eine gemeinsame Diskussion.&lt;/p&gt; 
DTSTART:20240307T190000
DTEND:20240307T203000
LOCATION:Bellevue di Monaco, Müllerstraße 2
ORGANIZER:Public History München
END:VEVENT
END:VCALENDAR