BEGIN:VCALENDAR
VERSION:2.0
PRODID:-//Stadtgeschichte München//DE
CALSCALE:GREGORIAN
BEGIN:VEVENT
UID:24323@stadtgeschichte-muenchen.de
SUMMARY:Prinzessin auf der Erbse
DESCRIPTION:&lt;p&gt;Seidenroben, Märchenprinz und Traumhochzeit?&lt;br /&gt; Leute, damit können wir auf unserer “Prinzessin auf der Erbse Tour&quot; leider nur in ganz geringem Umfang dienen. Stattdessen hört ihr von dem harten Los mancher Prinzessin, die hier in München ihre Spuren hinterlassen&lt;br /&gt; hat. Wer dafür gewappnet ist, darf sich gerne mit uns auf Spurensuche begeben.&lt;br /&gt; &amp;nbsp;&lt;/p&gt; 
DTSTART:20240529T140000
DTEND:20240529T160000
LOCATION:Maienplatz
ORGANIZER:Die Stadtdetektive  - Stadtführungen für Kinder und Erwachsene
END:VEVENT
END:VCALENDAR