BEGIN:VCALENDAR
VERSION:2.0
PRODID:-//Stadtgeschichte München//DE
CALSCALE:GREGORIAN
BEGIN:VEVENT
UID:24329@stadtgeschichte-muenchen.de
SUMMARY:Gut-gebrüllt-Löwe
DESCRIPTION:&lt;p&gt;Ihr meint, Stadtgeschichte sei langweilig? Ganz und gar nicht! Ihr werdet von Brandstiftern, Drachen und Teufeln hören, die Geheimnisse mittelalterlicher Bauten entschlüsseln und mit uns zusammen eintauchen in die mittelalterliche Welt der Ritter, Herzöge und Baumeister.&lt;br /&gt; (ab 5 Jahren)&lt;/p&gt; 
DTSTART:20240824T140000
DTEND:20240824T160000
LOCATION:Mariensäule Marienplatz
ORGANIZER:Die Stadtdetektive  - Stadtführungen für Kinder und Erwachsene
END:VEVENT
END:VCALENDAR