BEGIN:VCALENDAR
VERSION:2.0
PRODID:-//Stadtgeschichte München//DE
CALSCALE:GREGORIAN
BEGIN:VEVENT
UID:24337@stadtgeschichte-muenchen.de
SUMMARY:Ein neues Quartier für Neuperlach
DESCRIPTION:&lt;p&gt;Im Osten Neuperlachs, auf dem Gelände des ehemaligen Piedersdorfer Kieswerkes, entsteht ein neues Quartier. Auf unserem Rundgang gehen wir folgenden Fragen nach:&lt;/p&gt; &lt;p&gt;Was ist im Alexisquartier entstanden und noch geplant? Was ist die Geschichte des Areals und was gibt es in der näheren Umgebung noch zu entdecken?&lt;/p&gt; &lt;p&gt;Es führt das Stadtteilmanagement Neuperlach der Münchner Gesellschaft für Stadterneuerung.&lt;/p&gt; &lt;p&gt;&amp;nbsp;&lt;/p&gt; &lt;ul&gt; &lt;/ul&gt; 
DTSTART:20240322T160000
DTEND:20240322T180000
LOCATION:vor Spiel- und Kulturwerkstatt ALEX Franz-Heubl-Str. 42
ORGANIZER:MVHS
END:VEVENT
END:VCALENDAR