BEGIN:VCALENDAR
VERSION:2.0
PRODID:-//Stadtgeschichte München//DE
CALSCALE:GREGORIAN
BEGIN:VEVENT
UID:24357@stadtgeschichte-muenchen.de
SUMMARY:Ans Licht holen: Spuren der mittelalterlichen Neuveste unterhalb des Apothekerhofes der Re
DESCRIPTION:
DTSTART:20240714T140000
DTEND:20240714T160000
LOCATION:Vorraum Kasse Residenzmuseum
ORGANIZER:Bayerische Schlösserverwaltung
END:VEVENT
END:VCALENDAR