BEGIN:VCALENDAR
VERSION:2.0
PRODID:-//Stadtgeschichte München//DE
CALSCALE:GREGORIAN
BEGIN:VEVENT
UID:24358@stadtgeschichte-muenchen.de
SUMMARY:Kronen, Schwerter und Juwelen
DESCRIPTION:&lt;p&gt;Die Führung dauert etwa 90 Minuten und ist für Kinder von 6-10 Jahren geeignet (erwachsene Begleitperson erforderlich).&lt;/p&gt; 
DTSTART:20240721T140000
DTEND:20240721T153000
LOCATION:Vorraum Kasse Residenzmuseum
ORGANIZER:Bayerische Schlösserverwaltung
END:VEVENT
END:VCALENDAR