BEGIN:VCALENDAR
VERSION:2.0
PRODID:-//Stadtgeschichte München//DE
CALSCALE:GREGORIAN
BEGIN:VEVENT
UID:2437@stadtgeschichte-muenchen.de
SUMMARY:Oskar Maria Graf
DESCRIPTION:&lt;div&gt;Von seiner Ankunft am M&amp;uuml;nchner Bahnhof 1911 bis zum Exil 1933 durchwandern wir die Stationen seines Lebens, wie er sie uns v.a. in &amp;bdquo;Wir sind Gefangene&amp;quot; schilderte.&lt;/div&gt;
DTSTART:20121007T110000
DTEND:20121007T000000
LOCATION:Hauptbahnhof Gleis 11
ORGANIZER:STATTreisen München e.V.
END:VEVENT
END:VCALENDAR