BEGIN:VCALENDAR
VERSION:2.0
PRODID:-//Stadtgeschichte München//DE
CALSCALE:GREGORIAN
BEGIN:VEVENT
UID:24423@stadtgeschichte-muenchen.de
SUMMARY:Das schwierige Erinnern
DESCRIPTION:&lt;p&gt;Gleich zu Beginn des NS-Regimes richtete sich der Terror vor allem gegen den politischen Gegner, in erster Linie Kommunisten und Sozialdemokraten. Tausende von Oppositionellen wurden von lokalen SA-Gruppen interniert und misshandelt. Zu den frühen Opfern dieser Terrorwelle gehörten auch Heinz Eschen und Walter Häbich.&lt;/p&gt; &lt;p&gt;Mit Verfolgten des Nationalsozialismus, wie die Kommunisten Walter Häbich oder Heinz Eschen, hat sich die Bundesrepublik Deutschland lange Zeit sehr schwergetan. Beide stammten aus einfachsten Verhältnissen und engagierten sich in der KPD. Sie gehörten damit zu den NS-Gegnern, die andere gesellschaftliche Vorstellungen als die einer Hitler-Diktatur hatten. Diese Vorstellungen standen auch nicht im Einklang mit der freiheitlich demokratischen Grundordnung des Nachkriegs-Deutschland. Für lange Zeit klammerte man diese Widerstandskämpfer zu Unrecht aus dem Kreis der Erinnerungswürdigen aus.&lt;/p&gt; &lt;p&gt;An diesem Abend stellen Ihnen Susana Zickert und Stefan Dickas zwei neu erarbeitete Biografien vor. Dabei sind sie auch auf neue Quellen und bisher unbekannte Bilder gestoßen.&lt;/p&gt; &lt;p&gt;&lt;strong&gt;Heinz Eschen&lt;/strong&gt;&lt;br /&gt; Geboren am 3. Mai 1909 in Filehne&lt;br /&gt; Inhaftiert am 26. November 1933 im Konzentrationslager Dachau&lt;br /&gt; Ermordet am 31. Januar 1938 im Konzentrationslager Dachau&lt;/p&gt; &lt;p&gt;&lt;strong&gt;Walter Häbich&lt;/strong&gt;&lt;br /&gt; Geboren am 15. Oktober 1904 in Stuttgart-Botnang&lt;br /&gt; Ermordet am 1. Juli 1934 im Konzentrationslager Dachau&lt;/p&gt; 
DTSTART:20240514T180000
DTEND:20240514T193000
LOCATION:Evangelisches Migrationszentrum im Griechischen Haus, Bergmannstraße 46, 80339 München
ORGANIZER:ErinnerungsWerkstatt München e.V.
END:VEVENT
END:VCALENDAR