BEGIN:VCALENDAR
VERSION:2.0
PRODID:-//Stadtgeschichte München//DE
CALSCALE:GREGORIAN
BEGIN:VEVENT
UID:24427@stadtgeschichte-muenchen.de
SUMMARY:Erinnerungszeichen für Wilhelm Gögel
DESCRIPTION:
DTSTART:20240415T160000
DTEND:20240415T170000
LOCATION:Aberlestraße 42
ORGANIZER:Kulturreferat der Landeshauptstadt München
END:VEVENT
END:VCALENDAR