BEGIN:VCALENDAR
VERSION:2.0
PRODID:-//Stadtgeschichte München//DE
CALSCALE:GREGORIAN
BEGIN:VEVENT
UID:24450@stadtgeschichte-muenchen.de
SUMMARY:Künstler und Persönlichkeiten in München - ihre Villen und Schlösser
DESCRIPTION:&lt;p&gt;Schwabing und die Maxvorstadt bieten so manche architektonische Überraschung, die Ihnen die Architektin Ursula Scriba vorstellen wird: Franz von Lenbachs Villa am Königsplatz ist bekannt. Aber wer kennt die Paul-Heyse-Villa an der Luisenstraße? Auch Gabriel von Seidls Villa steht in der Maxvorstadt. In der Kaulbachstraße erbaute er die Villa von Friedrich August Kaulbach. Neben der Ludwigskirche befindet sich die ehemalige Villa von Friedrich von Gärtner. Joseph Maria Olbrich hinterließ eine denkwürdige Jugendstilvilla in der Karl-Theodor-Straße.&lt;/p&gt; 
DTSTART:20240411T190000
DTEND:20240411T203000
LOCATION:Bürgerhaus Römerschanz Dr.-Max-Str. 1
ORGANIZER:MVHS
END:VEVENT
END:VCALENDAR