BEGIN:VCALENDAR
VERSION:2.0
PRODID:-//Stadtgeschichte München//DE
CALSCALE:GREGORIAN
BEGIN:VEVENT
UID:24453@stadtgeschichte-muenchen.de
SUMMARY:(W)Orte rechten Terrors in München
DESCRIPTION:&lt;p&gt;Der Bombenanschlag auf Besucher*innen des Oktoberfests 1980 und die rassistischen Morde am Olympia-Einkaufszentrum 2016 sind Höhepunkte einer langen Geschichte rechten Terrors in München. Auf einem Stadtrundgang gehen wir dieser Geschichte auf den Grund und&amp;nbsp;fragen danach, warum sich die Gesellschaft so schwer damit tut, diesen Terror als solchen zu erkennen und zu bekämpfen.&lt;/p&gt; 
DTSTART:20240426T150000
DTEND:20240426T173000
LOCATION:Max-Mannheimer-Platz 1
ORGANIZER:NS-Dokumentationszentrum München
END:VEVENT
END:VCALENDAR