BEGIN:VCALENDAR
VERSION:2.0
PRODID:-//Stadtgeschichte München//DE
CALSCALE:GREGORIAN
BEGIN:VEVENT
UID:24471@stadtgeschichte-muenchen.de
SUMMARY:Ein bewegtes künstlerisches Leben
DESCRIPTION:&lt;p&gt;Einst beherbergte das Gebäude an der Westenriederstraße die Städtische Malschule, wo die 1904 geborene Münchnerin Elisabeth Springer&amp;nbsp;vier Jahre lang studierte. Sie stand am Anfang einer vielversprechenden Künstlerkarriere, als sie im November 1941 nach Kaunas deportiert und dort ermordet wurde. Die Kunsthistorikerin Susanna Partsch ordnet das kurze Künstlerleben Elisabeth Springers in die hiesige Künstlerszene der 1920er und -30er Jahre ein. Der 17-minütige Kurzfilm von Judy Rosenthal, Großnichte von Elisabeth, erzählt die Geschichte der Familie Springer. Im Anschluss wird zu einem Gespräch eingeladen.&lt;/p&gt; 
DTSTART:20240428T123000
DTEND:20240428T133000
LOCATION:Friedrich-List-Wirtschaftsschule, Westenriederstraße 20
ORGANIZER:DMAO Denk mal am Ort
END:VEVENT
END:VCALENDAR