BEGIN:VCALENDAR
VERSION:2.0
PRODID:-//Stadtgeschichte München//DE
CALSCALE:GREGORIAN
BEGIN:VEVENT
UID:24473@stadtgeschichte-muenchen.de
SUMMARY:Omas Gegen Rechts
DESCRIPTION:&lt;p&gt;Mit Gesang, Plakaaten und dem unübersehbaren Wahrzeichen, den weißen Schirmen, machen die OMAS GEGEN RECHTS deutlich, wie wichtig es ist an der Europä-Wahl teilzunehmen und den Rechtsruck in Europa einzudämmen.&lt;/p&gt; 
DTSTART:20240426T153000
DTEND:20240426T170000
LOCATION:Willi-Brandt-Platz in Riem
ORGANIZER:Omas gegen Rechts München
END:VEVENT
END:VCALENDAR