BEGIN:VCALENDAR
VERSION:2.0
PRODID:-//Stadtgeschichte München//DE
CALSCALE:GREGORIAN
BEGIN:VEVENT
UID:24477@stadtgeschichte-muenchen.de
SUMMARY:Auf den Spuren von Maria Marc, der Frau des Blauen Reiter
DESCRIPTION:&lt;p&gt;Sie war Franz Marcs Muse, sein (Akt-)Modell, aber auch seine Kameradin, Lebensgefährtin, zweite Ehefrau und wichtigste Künstlerkollegin: Maria Marc, geb. Franck. Als Schülerin der Damenakademie tauchte sie Anfang des 20. Jahrhunderts voller Neugierde in die quirligen Bohèmezirkel der Kunststadt München ein, bevor sie mit Franz Marc in der stillen Abgeschiedenheit des Blauen Lands ihren eigenen Malstil verfeinerte – nicht ahnend, dass sie nicht als eigenständige Künstlerin sondern als „Die Frau des Blauen Reiter“ in die Geschichte eingehen würde.&lt;/p&gt; &lt;p&gt;Lassen Sie sich auf den Spuren dieser leider völlig unterschätzten Künstlerin und Persönlichkeit die wichtigsten Ateliers und Treffpunkte von ihr, Franz Marc und ihren Künstlerkollegen und – kolleginnen zeigen, die später im Umfeld des Blauen Reiter Anerkennung und Nachruhm erlangten und die für das stehen, was München bis heute zur legendären Kunst- und Bohèmestadt macht.&lt;/p&gt; 
DTSTART:20240623T110000
DTEND:20240623T123000
LOCATION:Auffahrtsrondell vor dem Haupteingang der Kunstakademie, Akademiestraße 2-4, München
ORGANIZER:Rehn Heidi
END:VEVENT
END:VCALENDAR