BEGIN:VCALENDAR
VERSION:2.0
PRODID:-//Stadtgeschichte München//DE
CALSCALE:GREGORIAN
BEGIN:VEVENT
UID:24480@stadtgeschichte-muenchen.de
SUMMARY:Gemeinschaftslesung mit Tanja Kinkel und Carmen Mayer aus »Reichenau. Insel der Geheimniss
DESCRIPTION:&lt;p&gt;Donnerstag, 16. Mai 2024, 19 Uhr&lt;/p&gt; &lt;ul style=&quot;list-style-type:none&quot;&gt; &lt;li&gt;Gemeinschaftslesung mit Tanja Kinkel und Carmen Mayer aus »Reichenau. Insel der Geheimnisse«, hg. von Tanja Kinkel&lt;/li&gt; &lt;li&gt;Buchhandlung&amp;nbsp;&lt;a href=&quot;https://www.michaelsbund.de/medienhaus/buchhandlung/veranstaltungen-der-buchhandlung/&quot;&gt;Michaelsbund&lt;/a&gt;, Herzog-Wilhelm-Str. 5, 80331 München&lt;/li&gt; &lt;li&gt;Eintritt frei, Reservierung direkt über die Buchhandlung&lt;/li&gt; &lt;/ul&gt; 
DTSTART:20240516T190000
DTEND:20240516T203000
LOCATION: Michaelsbund, Herzog-Wilhelm-Str. 5, 80331 München
ORGANIZER:
END:VEVENT
END:VCALENDAR