BEGIN:VCALENDAR
VERSION:2.0
PRODID:-//Stadtgeschichte München//DE
CALSCALE:GREGORIAN
BEGIN:VEVENT
UID:24482@stadtgeschichte-muenchen.de
SUMMARY:Das Glockenbachviertel
DESCRIPTION:&lt;p&gt;Wo früher Flößer, Müller und Pechsieder ihrer Arbeit nachgingen, hat sich ein bunter, angesagter Szenetreff entwickelt.&lt;br /&gt; &amp;nbsp;&lt;/p&gt; 
DTSTART:20240607T173000
DTEND:20240607T190000
LOCATION:Stephansplatz, am Eingang zum alten südlichen Friedhof
ORGANIZER:Münchner Bildungswerk e.V.
END:VEVENT
END:VCALENDAR