BEGIN:VCALENDAR
VERSION:2.0
PRODID:-//Stadtgeschichte München//DE
CALSCALE:GREGORIAN
BEGIN:VEVENT
UID:24517@stadtgeschichte-muenchen.de
SUMMARY:Bunt sind alle meine Häuser
DESCRIPTION:&lt;p&gt;Tauchen Sie ein in die faszinierende Vielfalt Münchner Jugendstilfassaden!&lt;/p&gt; 
DTSTART:20240818T180000
DTEND:20240818T193000
LOCATION:Ecke Münchner Freiheit / Haimhauserstraße
ORGANIZER:Münchner Bildungswerk e.V.
END:VEVENT
END:VCALENDAR