BEGIN:VCALENDAR
VERSION:2.0
PRODID:-//Stadtgeschichte München//DE
CALSCALE:GREGORIAN
BEGIN:VEVENT
UID:24519@stadtgeschichte-muenchen.de
SUMMARY:Kirche und Herzog
DESCRIPTION:&lt;p&gt;Das gewaltige und ehrgeizige Bauprojekt des Bayernherzogs Wilhelm V. zeigt die Bedeutung der Gegenreformation für Bayern.&lt;/p&gt; 
DTSTART:20240611T150000
DTEND:20240611T163000
LOCATION:St. Michael, unter der Orgelempore, (Fußgängerzone)
ORGANIZER:Münchner Bildungswerk e.V.
END:VEVENT
END:VCALENDAR