BEGIN:VCALENDAR
VERSION:2.0
PRODID:-//Stadtgeschichte München//DE
CALSCALE:GREGORIAN
BEGIN:VEVENT
UID:24526@stadtgeschichte-muenchen.de
SUMMARY:Kirche und Herbergen
DESCRIPTION:&lt;p&gt;Der Rundgang erzählt von Biergärten, Brausebädern und vom gänzlich unromantischen Leben in den alten Herbergen und Handwerkerhäusern.&lt;/p&gt; 
DTSTART:20240705T170000
DTEND:20240705T183000
LOCATION:St. Johann Baptist Johannisplatz 1
ORGANIZER:Münchner Bildungswerk e.V.
END:VEVENT
END:VCALENDAR