BEGIN:VCALENDAR
VERSION:2.0
PRODID:-//Stadtgeschichte München//DE
CALSCALE:GREGORIAN
BEGIN:VEVENT
UID:24574@stadtgeschichte-muenchen.de
SUMMARY:Griechenland, mein liebes Griechenland
DESCRIPTION:&lt;p&gt;17 Jahre war der Wittelsbacher Prinz Otto jung, als er „ins Griechenland“ reiste, um dort für 30 Jahre Herrscher der Hellenen zu sein. Auf dieser gemütlichen Sonntag-Nachmittags-Tour durch München alias Isar-Athen erzählt Cornelia Ziegler von tränenreichen Abschieden, mysteriösen Geschichten und Regierungsentscheidungen, die bis heute Einfluss auf die Geschichte, Politik und den griechischen Alltag haben. Odeonsplatz, Residenz, Bayerisches Nationalmuseum und Königsplatz sind die Stationen dieser Spurensuche zu Fuß und per Bus. Unterwegs Pause im Café mit Bildbesprechung.&lt;/p&gt; &lt;p&gt;&amp;nbsp;&lt;/p&gt; &lt;p&gt;&amp;nbsp;&lt;/p&gt; &lt;p&gt;&amp;nbsp;&lt;/p&gt; 
DTSTART:20240714T140000
DTEND:20240714T180000
LOCATION:Feldherrnhalle, Odeonsplatz
ORGANIZER:VHS im Osten des Landkreises München
END:VEVENT
END:VCALENDAR