BEGIN:VCALENDAR
VERSION:2.0
PRODID:-//Stadtgeschichte München//DE
CALSCALE:GREGORIAN
BEGIN:VEVENT
UID:24582@stadtgeschichte-muenchen.de
SUMMARY:Gedenkveranstaltung für Carry Brachvogel, Julie Weinmann und Siegmund Hellmann
DESCRIPTION:&lt;p&gt;Die LH München setzt Erinnerungszeichen für die in der NS-Zeit als Jüdinnen und Juden verfolgte Autorin Carry Brachvogel sowie für Julie Weinmann und den Historiker Siegmund Hellmann. Sie lebten in der nahegelegenen Herzogstr. 55. Dort werden um 17.15 Uhr die Erinnerungszeichen angebracht. Zuvor findet in der Seidlvilla eine Gedenkveranstaltung statt. Es sprechen u.a. Stadtrat Stefan Jagel in Vertretung des Oberbürgermeisters, die Präsidentin der Israelischen Kultusgemeinde Charlotte Knobloch, Anke Buettner (Monacensia im Hildebrandhaus) und Eva Strauß (Stattreisen e.V.). Musik: Tabea Well und Anna-Sophia Kraus (Violine).&lt;/p&gt; 
DTSTART:20240711T160000
DTEND:20240711T173000
LOCATION:Seidl-Villa, Nikolaiplatz 1B
ORGANIZER:Kulturreferat der Landeshauptstadt München
END:VEVENT
END:VCALENDAR