BEGIN:VCALENDAR
VERSION:2.0
PRODID:-//Stadtgeschichte München//DE
CALSCALE:GREGORIAN
BEGIN:VEVENT
UID:246@stadtgeschichte-muenchen.de
SUMMARY:Nicht nur zur Sommerszeit
DESCRIPTION:
DTSTART:20110607T100000
DTEND:20110607T000000
LOCATION:U-Bahn Olympiazentrum; Ausgang Olympiapark, großer Geländeplan, Straßenniveau
ORGANIZER:Münchner Bildungswerk e.V.
END:VEVENT
END:VCALENDAR