BEGIN:VCALENDAR
VERSION:2.0
PRODID:-//Stadtgeschichte München//DE
CALSCALE:GREGORIAN
BEGIN:VEVENT
UID:24623@stadtgeschichte-muenchen.de
SUMMARY:Abenteuer Archäologie
DESCRIPTION:&lt;p&gt;Nach Jahren der Generalsanierung öffnet die Archäologische Staatssammlung in 2024 wieder ihre Pforten. Auf einer Führung durch die neue Dauerausstellung erleben Sie das Abenteuer Archäologie in seiner ganzen Vielfalt. Mehr als 15.000 Objekte sind im &quot;neuen&quot; Haus ausgestellt und warten darauf, erkundet zu werden. Erfahren Sie, wie archäologisches Arbeiten funktioniert und staunen Sie, welche Schätze aus Bayerns Boden kommen. Gehen Sie mit uns auf Zeitreise!&lt;/p&gt;
DTSTART:20240714T140000
DTEND:20240714T153000
LOCATION:Archäologische Staatssammlung, Foyer Lerchenfeldstr. 2
ORGANIZER:MVHS
END:VEVENT
END:VCALENDAR