BEGIN:VCALENDAR
VERSION:2.0
PRODID:-//Stadtgeschichte München//DE
CALSCALE:GREGORIAN
BEGIN:VEVENT
UID:24636@stadtgeschichte-muenchen.de
SUMMARY: Gründung und Aufstieg der NSDAP
DESCRIPTION:&lt;p&gt;Warum wurde gerade München zum Gründungs- und Aufstiegsort der Nationalsozialistischen Deutschen Arbeiterpartei (NSDAP) und warum spielte die Stadt auch nach der Machtübernahme 1933 weiterhin eine besondere Rolle in der NS-Diktatur?&lt;/p&gt;&lt;p&gt;In diesem Rundgang in Deutscher Gebärdensprache mit Hans-Georg Benkmann&amp;nbsp;(Museum Signers) schauen wir uns die Zeit nach dem Ende des Ersten Weltkriegs sowie die Entstehungs- und Aufstiegsphase der NSDAP an: Wir werfen einen Blick auf das politische Klima, das nach der Novemberrevolution 1918 in München herrschte und die Entwicklung der kleinen Splitterpartei DAP zur Massenpartei NSDAP begünstigte: bis zur Inszenierung der Macht als ‚Hauptstadt der Bewegung‘ während der Regime-Phase.&lt;/p&gt;
DTSTART:20240718T170000
DTEND:20240718T183000
LOCATION:NS-Dokumentationszentrum München, Foyer
ORGANIZER:NS-Dokumentationszentrum München
END:VEVENT
END:VCALENDAR