BEGIN:VCALENDAR
VERSION:2.0
PRODID:-//Stadtgeschichte München//DE
CALSCALE:GREGORIAN
BEGIN:VEVENT
UID:24682@stadtgeschichte-muenchen.de
SUMMARY:Erinnerungszeichen für Hans Nimmerfall
DESCRIPTION:&lt;p&gt;17:00 Gedenkveranstaltung&lt;br&gt;17:45 Anbringung des Erinnerungszeichens an der ehemaligen Wirkunsstätte Bäckerstraße 14&lt;/p&gt;
DTSTART:20240820T170000
DTEND:20240820T180000
LOCATION:Bäckerstraße 14, Münchner Volkshochschule
ORGANIZER:Kulturreferat der Landeshauptstadt München
END:VEVENT
END:VCALENDAR