BEGIN:VCALENDAR
VERSION:2.0
PRODID:-//Stadtgeschichte München//DE
CALSCALE:GREGORIAN
BEGIN:VEVENT
UID:24728@stadtgeschichte-muenchen.de
SUMMARY:Die Fünf Höfe neu entdeckt
DESCRIPTION:&lt;p&gt;Durch die Fünf Höfe der Stararchitekten Herzog &amp;amp; de Meuron läuft man meist nur schnellen Schrittes. Dabei lohnt sich ein Verweilen dort und ein genauer Blick, um versteckten Botschaften auf die Spur zu kommen: Die in der Passage verstreuten Textbotschaften etwa lassen Bezüge zur Philosophie Michel Foucaults ebenso aufleuchten wie zum lebenspraktischen Büchlein &quot;Glück&quot; des Philosophen Wilhelm Schmid. Ein Plädoyer für ein Leben mit Eros begegnet Ihnen bei diesem philosophischen Höfe- und Passagenbesuch obendrein.&lt;/p&gt;
DTSTART:20241123T110000
DTEND:20241123T130000
LOCATION:Vor dem Eingang der Kunsthalle Theatinerstr. 8
ORGANIZER:MVHS
END:VEVENT
END:VCALENDAR