BEGIN:VCALENDAR
VERSION:2.0
PRODID:-//Stadtgeschichte München//DE
CALSCALE:GREGORIAN
BEGIN:VEVENT
UID:24736@stadtgeschichte-muenchen.de
SUMMARY:Erinnerungstafeln in der Münchner Altstadt
DESCRIPTION:&lt;p&gt;Man läuft achtlos an ihnen vorbei, denn sie fügen sich meist unauffällig ins Stadtbild ein. Und manchmal muss man sich auch strecken, um einen Blick auf sie werfen zu können. An der Außenmauer der Frauenkirche erinnert ein Epitaph, ein Grabdenkmal, an die reiche Bürgersfrau Petronella Strohmeier. Warum bettet sie wohl ihr Haupt auf einen Totenschädel? Vom &quot;Himmelsschäfflerhaus&quot; aus brachen die Schäffler auf zu ihren Tänzen, so steht es in einer Fensterlaibung. Münchens Erinnerungstafeln bergen einen reichen Schatz - es lohnt sich zu wissen, wo man hinschauen muss!&lt;/p&gt;&lt;p&gt;Die Führung endet voraussichtlich an der Frauenkirche.&lt;/p&gt;
DTSTART:20241117T110000
DTEND:20241117T123000
LOCATION:Rosen Apotheke Rosenstr. 6
ORGANIZER:MVHS
END:VEVENT
END:VCALENDAR