BEGIN:VCALENDAR
VERSION:2.0
PRODID:-//Stadtgeschichte München//DE
CALSCALE:GREGORIAN
BEGIN:VEVENT
UID:24785@stadtgeschichte-muenchen.de
SUMMARY:König Max I. Joseph zwischen Krieg, Säkularisation und Kunst
DESCRIPTION:
DTSTART:20250131T180000
DTEND:20250131T193000
LOCATION:Bildungszentrum Einsteinstr. 28
ORGANIZER:MVHS
END:VEVENT
END:VCALENDAR