BEGIN:VCALENDAR
VERSION:2.0
PRODID:-//Stadtgeschichte München//DE
CALSCALE:GREGORIAN
BEGIN:VEVENT
UID:24794@stadtgeschichte-muenchen.de
SUMMARY:Das ist die neue Kunst! München und der Jugendstil
DESCRIPTION:&lt;p&gt;Ende des 19. Jahrhunderts gilt München neben Paris als führende Kunststadt Europas und zieht Künstler*innen aus aller Welt an. Sie suchen nach neuen Ausdrucksformen, die der Zeit und ihren tiefgreifenden politischen, wirtschaftlichen und gesellschaftlichen Veränderungen entsprechen. München wird zu einer Keimzelle des Jugendstils in Deutschland und entwickelt sich zu einem seiner bedeutendsten Zentren. Neben den frühesten Werken dieser neuen Kunst beleuchtet der Vortrag einzelne Protagonist*innen und ihre Inspirationsquellen.&lt;/p&gt;
DTSTART:20250120T180000
DTEND:20250120T193000
LOCATION:Bildungszentrum Einsteinstr. 28
ORGANIZER:MVHS
END:VEVENT
END:VCALENDAR