BEGIN:VCALENDAR
VERSION:2.0
PRODID:-//Stadtgeschichte München//DE
CALSCALE:GREGORIAN
BEGIN:VEVENT
UID:24798@stadtgeschichte-muenchen.de
SUMMARY: Bauhaus in Bayern
DESCRIPTION:&lt;p&gt;In Bayern finden sich zahlreiche glanzvolle Bauten der architektonischen Moderne. Überall im Land entstanden in den 1920er und 1930er Jahren Wohnsiedlungen, Postbauten, Krankenhäuser, öffentliche Gebäude und Kirchen in neuem Stil. Der Vortrag zeigt ausgewählte Meisterwerke in Schwarz-Weiß-Aufnahmen des Fotografen Jean Molitor und bietet eine Gesamtschau der vom Bauhaus inspirierten Architektur in Bayern.&lt;/p&gt;&lt;p&gt;In Kooperation mit der Pasinger Fabrik zur Ausstellung „Bauhaus in Bayern – eine Reise durch die Klassische Moderne“&lt;/p&gt;
DTSTART:20241127T190000
DTEND:20241127T203000
LOCATION:Pasinger Fabrik August-Exter-Str. 1
ORGANIZER:MVHS
END:VEVENT
END:VCALENDAR