BEGIN:VCALENDAR
VERSION:2.0
PRODID:-//Stadtgeschichte München//DE
CALSCALE:GREGORIAN
BEGIN:VEVENT
UID:24825@stadtgeschichte-muenchen.de
SUMMARY:30 Jahre Geschichtsarbeit in Moosach
DESCRIPTION:&lt;p&gt;Jubiläum beim Geschichtsverein Moosach e.V.: 30 Jahre Geschichtsarbeit und 15 Jahre Bestehen des Vereins. Gefeiert wird mit einem Tag der offenen Tür in den Räumen des Geschichtsvereins (im 2. Stock der MVHS in Moosach) sowie mit einer Ausstellung zur 1200-jährigen Geschichte Moosachs im Haus der MVHS in Moosach (weitere Infos unter der Kursnummer T122140).&lt;/p&gt;&lt;p&gt;Für Interessierte werden Kurzführungen angeboten: jeweils um 12.00 Uhr, 14.00 Uhr und 16.00 Uhr.&lt;/p&gt;
DTSTART:20241123T110000
DTEND:20241123T170000
LOCATION:MVHS in Moosach Baubergerstr. 6a
ORGANIZER:MVHS
END:VEVENT
END:VCALENDAR