BEGIN:VCALENDAR
VERSION:2.0
PRODID:-//Stadtgeschichte München//DE
CALSCALE:GREGORIAN
BEGIN:VEVENT
UID:24826@stadtgeschichte-muenchen.de
SUMMARY:Die Moosach
DESCRIPTION:&lt;p&gt;Wer den Münchner Stadtteil Moosach kennt, fragt sich, wo da ein Gewässer ist. Den Namen verdankt der Ort der Moosach, die hier entspringt. Sie weitet sich zu einem rund 50 Kilometer langen Fluss aus, der nordwärts durch die Altstadt Freisings fließt und vor Moosburg in die Isar mündet. Was ist auf diesem Weg dorthin passiert? Bereits der Bau des barocken Kanalsystems um Schloss Schleißheim beeinflusste das Schicksal der Moosach nachhaltig.&lt;br&gt;In Kooperation mit dem Geschichtsverein Moosach e.V.&lt;br&gt;Im Rahmen der Vortragsreihe &quot;Montags in Moosach&quot;.&lt;/p&gt;
DTSTART:20250203T190000
DTEND:20250203T203000
LOCATION:MVHS in Moosach Baubergerstr. 6a
ORGANIZER:MVHS
END:VEVENT
END:VCALENDAR