BEGIN:VCALENDAR
VERSION:2.0
PRODID:-//Stadtgeschichte München//DE
CALSCALE:GREGORIAN
BEGIN:VEVENT
UID:24861@stadtgeschichte-muenchen.de
SUMMARY:Vergessenen Münchnerinnen
DESCRIPTION:&lt;p&gt;Autorin Adelheid Schmidt-Thomé verleiht Frauen Gesicht und Stimme, die – heute fast vergessen – doch Großes für München geleistet haben. Sie waren Schriftstellerinnen, Schauspielerinnen, Sängerinnen, Abenteurerinnen, Pazifistinnen, Prinzessinnen, Unternehmerinnen. Sie haben in München gelebt, gearbeitet, gelitten, gekämpft, gewirkt. Oft im Stillen, aber manches Mal auch mit einem Bekanntheitsgrad weit über die Grenzen der Landeshauptstadt hinaus.&lt;/p&gt;
DTSTART:20240920T190000
DTEND:20240920T210000
LOCATION:Kultur im Trafo, Nymphenburger Straße 171a
ORGANIZER:Kultur im Trafo
END:VEVENT
END:VCALENDAR