BEGIN:VCALENDAR
VERSION:2.0
PRODID:-//Stadtgeschichte München//DE
CALSCALE:GREGORIAN
BEGIN:VEVENT
UID:24872@stadtgeschichte-muenchen.de
SUMMARY:Jüdisches Leben in Bogenhausen
DESCRIPTION:&lt;p&gt;In der Prinzregentenzeit entstand am Hochufer der Isar ein großbürgerliches Villenviertel, dessen „Rückgrat“ die Möhlstraße wurde. Unter den Bauherrn - Industrielle, Professoren, Privatiers - befanden sich in der Gründergeneration auch einige jüdische Familien. Die Nationalsozialisten enteigneten diese nach 1933 bzw. wandelten deren Villen zeitweilig in sog. &quot;Judenhäuser&quot; um. Die US-Besatzungsmacht revidierte dies; ehemalige „Judenvillen“ wurden den Hilfsorganisationen der „displaced persons“ zur Nutzung zugewiesen. Auch das Hildebrandhaus der Monacensia reiht sich in die Riege dieser Villen ein. Neue Dauerausstellung zur Geschichte des Hauses ab Oktober 2024.&lt;/p&gt;
DTSTART:20241108T150000
DTEND:20241108T170000
LOCATION:Ecke Möhlstr./Höchlstraße
ORGANIZER:MVHS
END:VEVENT
END:VCALENDAR