BEGIN:VCALENDAR
VERSION:2.0
PRODID:-//Stadtgeschichte München//DE
CALSCALE:GREGORIAN
BEGIN:VEVENT
UID:24877@stadtgeschichte-muenchen.de
SUMMARY:Gemeinsam für sozialen Strom! 
DESCRIPTION:&lt;p&gt;In der Energiegemeinschaft nehmen Neuperlacher*innen die Energiewende selbst in die Hand. Die erste Solaranlage ist bereits geplant, weitere sind in Vorbereitung. Als Teil der Energiegemeinschaft haben Sie – gerade in der jetzigen Gründungsphase – die Möglichkeit, sich aktiv einzubringen (durch Investitionen, PV-Flächen-Bereitstellung oder aktive Mitarbeit) und werden am Ertrag mit einer Dividende oder Strom beteiligt. Wir informieren über den Stand der Dinge und erarbeiten uns gemeinsam Know-How zu den unterschiedlichen Aufgabenbereichen.&lt;/p&gt;&lt;p&gt;Eine Veranstaltung im Rahmen des Münchner Klimaherbsts.&lt;/p&gt;
DTSTART:20241023T180000
DTEND:20241023T193000
LOCATION:Quidde35
ORGANIZER:MVHS
END:VEVENT
END:VCALENDAR