BEGIN:VCALENDAR
VERSION:2.0
PRODID:-//Stadtgeschichte München//DE
CALSCALE:GREGORIAN
BEGIN:VEVENT
UID:24899@stadtgeschichte-muenchen.de
SUMMARY:Philemon und Baucis, Gütinand der Fertige und der Pumuckl
DESCRIPTION:&lt;p&gt;Richard Langdon, der Symbologe aus Dan Browns Bestseller „Sakrileg\'“ hätte seine Freude an diesem Park. Denn es geht um Symbole: Um Bäume, Zahlen, Formen als Symbol und um das Geheimnis des großen schwarzen Vogels. Wir besteigen einen Aussichtsberg, hören in uns hinein, irren durch ein Labyrinth und am Schluss schauen wir noch beim Pumuckl und im Bamberger Haus bei Gütinand dem Fertigen vorbei.&lt;/p&gt;
DTSTART:20241009T103000
DTEND:20241009T123000
LOCATION:U-Bahn Station Scheidplatz, Ausgang Krankenhaus Schwabing, vor der Kneipe \"Holzwurm\"
ORGANIZER:DGB-Bildungswerk Bayern e.V. Region München
END:VEVENT
END:VCALENDAR